BEGIN:VCALENDAR
VERSION:2.0
PRODID:-//Sabre//Sabre VObject 4.5.8//EN
CALSCALE:GREGORIAN
BEGIN:VEVENT
UID:sabre-vobject-8b75678c-5c21-4320-bdb6-11607f44be4e
DTSTAMP:20260423T223704Z
SUMMARY:Backschule der Bäckerei Schlegl
DESCRIPTION:https://regioningolstadt.com/backschule-der-baeckerei-schlegl_i
 d18842
DTSTART;TZID=Europe/Berlin:20220609T160000
DURATION:PT30M
LOCATION:Bäckerei Schlegl\, Franziskanerstr. 201\, 86633 Neuburg an der Do
 nau
END:VEVENT
END:VCALENDAR
