BEGIN:VCALENDAR
VERSION:2.0
PRODID:-//Sabre//Sabre VObject 4.5.8//EN
CALSCALE:GREGORIAN
BEGIN:VEVENT
UID:sabre-vobject-5a7af6cf-379b-4444-b44b-6236e91faee8
DTSTAMP:20260420T031219Z
SUMMARY:Kunstscheune Kultnacht 
DESCRIPTION:https://regioningolstadt.com/kunstscheune-kultnacht_id18840
DTSTART;TZID=Europe/Berlin:20220514T200000
DURATION:PT30M
LOCATION:Kunstscheune\, Beim Jägerhaus 5\, 86633 Neuburg
END:VEVENT
END:VCALENDAR
