BEGIN:VCALENDAR
VERSION:2.0
PRODID:-//Sabre//Sabre VObject 4.5.8//EN
CALSCALE:GREGORIAN
BEGIN:VEVENT
UID:sabre-vobject-2a887a44-eab5-49a1-b1a1-62a688a820be
DTSTAMP:20260421T073542Z
SUMMARY:Oster Rave
DESCRIPTION:https://regioningolstadt.com/oster-rave_id18837
DTSTART;TZID=Europe/Berlin:20220417T210000
DURATION:PT30M
LOCATION:Fly Cocktailbar\, Elisenplatz C 38\, 86633 Neuburg an der Donau
END:VEVENT
END:VCALENDAR
