BEGIN:VCALENDAR
VERSION:2.0
PRODID:-//Sabre//Sabre VObject 4.5.8//EN
CALSCALE:GREGORIAN
BEGIN:VEVENT
UID:sabre-vobject-7737ff3b-4634-4a05-83de-6ade4b7f5898
DTSTAMP:20260421T145549Z
SUMMARY:Vogelmayer
DESCRIPTION:https://regioningolstadt.com/vogelmayer_id18836
DTSTART;TZID=Europe/Berlin:20220414T193000
DURATION:PT30M
LOCATION:Gasthaus Pfafflinger\, Schrannenplatz C 131\, 86633 Neuburg an der
  Donau
END:VEVENT
END:VCALENDAR
