BEGIN:VCALENDAR
VERSION:2.0
PRODID:-//Sabre//Sabre VObject 4.5.8//EN
CALSCALE:GREGORIAN
BEGIN:VEVENT
UID:sabre-vobject-753f7a57-faa4-4b62-8854-ccd533b76975
DTSTAMP:20260420T063411Z
SUMMARY:Flohmarkt am Südpark
DESCRIPTION:https://regioningolstadt.com/flohmarkt-am-suedpark_id18806
DTSTART;TZID=Europe/Berlin:20220515T070000
DURATION:PT30M
LOCATION:Südpark\, Südpark\, 86633 Neuburg
END:VEVENT
END:VCALENDAR
