BEGIN:VCALENDAR
VERSION:2.0
PRODID:-//Sabre//Sabre VObject 4.5.8//EN
CALSCALE:GREGORIAN
BEGIN:VEVENT
UID:sabre-vobject-4c90ac66-0c32-4d1b-9b74-9925a2074a3c
DTSTAMP:20260419T212222Z
SUMMARY:Neuburger Frühjahrs-Walking
DESCRIPTION:https://regioningolstadt.com/neuburger-fruehjahrs-walking_id188
 01
DTSTART;TZID=Europe/Berlin:20220501T000000
DURATION:PT30M
LOCATION:Wittelsbacher Golfclub\, Rohrenfeld 102\, 86633 Neuburg an der Don
 au
END:VEVENT
END:VCALENDAR
