BEGIN:VCALENDAR
VERSION:2.0
PRODID:-//Sabre//Sabre VObject 4.5.8//EN
CALSCALE:GREGORIAN
BEGIN:VEVENT
UID:sabre-vobject-3b5e33d9-191d-4814-900e-b810bff6a4ba
DTSTAMP:20260419T230109Z
SUMMARY:Mi Gente
DESCRIPTION:https://regioningolstadt.com/mi-gente_id18800
DTSTART;TZID=Europe/Berlin:20220430T213000
DURATION:PT30M
LOCATION:Moospark\, Rudolf-Diesel Straße 23\, 86554 Pöttmes
END:VEVENT
END:VCALENDAR
