BEGIN:VCALENDAR
VERSION:2.0
PRODID:-//Sabre//Sabre VObject 4.5.8//EN
CALSCALE:GREGORIAN
BEGIN:VEVENT
UID:sabre-vobject-39aec647-2628-4877-8c9a-a9da371a62f0
DTSTAMP:20260420T020035Z
SUMMARY:Button Rouge
DESCRIPTION:https://regioningolstadt.com/button-rouge_id18799
DTSTART;TZID=Europe/Berlin:20220430T200000
DURATION:PT30M
LOCATION:Die Drogerie\,  Luitpoldstrasse 180B\,  86633 Neuburg an der Donau
END:VEVENT
END:VCALENDAR
