BEGIN:VCALENDAR
VERSION:2.0
PRODID:-//Sabre//Sabre VObject 4.5.8//EN
CALSCALE:GREGORIAN
BEGIN:VEVENT
UID:sabre-vobject-d5c311f3-2e07-4812-a876-1861db6ae042
DTSTAMP:20260420T003421Z
SUMMARY:UnWucht 
DESCRIPTION:https://regioningolstadt.com/unwucht_id18798
DTSTART;TZID=Europe/Berlin:20220430T200000
DURATION:PT30M
LOCATION:Jugendzentrum Neuburg\, Fünfzehnerstraße 24\, 86633 Neuburg an d
 er Donau
END:VEVENT
END:VCALENDAR
