BEGIN:VCALENDAR
VERSION:2.0
PRODID:-//Sabre//Sabre VObject 4.5.8//EN
CALSCALE:GREGORIAN
BEGIN:VEVENT
UID:sabre-vobject-be5ad9b9-8f95-435f-bc07-36fe9771b3c0
DTSTAMP:20260420T033041Z
SUMMARY:Messe Neuburger Unternehmerinnen
DESCRIPTION:https://regioningolstadt.com/messe-neuburger-unternehmerinnen_i
 d18797
DTSTART;TZID=Europe/Berlin:20220430T130000
DURATION:PT30M
LOCATION:Maschinenring\, Am Maschinenring 1\, 86633 Neuburg
END:VEVENT
END:VCALENDAR
