BEGIN:VCALENDAR
VERSION:2.0
PRODID:-//Sabre//Sabre VObject 4.5.8//EN
CALSCALE:GREGORIAN
BEGIN:VEVENT
UID:sabre-vobject-f137340c-af6a-416b-b387-15c64687b011
DTSTAMP:20260420T095917Z
SUMMARY:Frühlingsmarkt im Wasserschloss Sandizell
DESCRIPTION:https://regioningolstadt.com/fruehlingsmarkt-im-wasserschloss-s
 andizell_id18796
DTSTART;TZID=Europe/Berlin:20220429T100000
DTEND;TZID=Europe/Berlin:20220501T190000
LOCATION:86529 Schrobenhausen\, Schloss Sandizell\, Schloßstraße 4\, 8652
 9 Schrobenhausen
END:VEVENT
END:VCALENDAR
