BEGIN:VCALENDAR
VERSION:2.0
PRODID:-//Sabre//Sabre VObject 4.5.8//EN
CALSCALE:GREGORIAN
BEGIN:VEVENT
UID:sabre-vobject-efebfc83-a5d2-4041-8562-feb3b9251dce
DTSTAMP:20260420T143328Z
SUMMARY:Matze Loui Erbe
DESCRIPTION:https://regioningolstadt.com/matze-loui-erbe_id18795
DTSTART;TZID=Europe/Berlin:20220424T120000
DURATION:PT30M
LOCATION:Gasthaus Pfafflinger\, Schrannenplatz C 131\, 86633 Neuburg an der
  Donau
END:VEVENT
END:VCALENDAR
