BEGIN:VCALENDAR
VERSION:2.0
PRODID:-//Sabre//Sabre VObject 4.5.8//EN
CALSCALE:GREGORIAN
BEGIN:VEVENT
UID:sabre-vobject-addb9b18-c760-4392-9fc7-267702d045a6
DTSTAMP:20260420T175046Z
SUMMARY:Ü30 Part im Moospark
DESCRIPTION:https://regioningolstadt.com/ue30-part-im-moospark_id18794
DTSTART;TZID=Europe/Berlin:20220423T213000
DURATION:PT30M
LOCATION:Moospark\, Rudolf-Diesel Straße 23\, 86554 Pöttmes
END:VEVENT
END:VCALENDAR
