BEGIN:VCALENDAR
VERSION:2.0
PRODID:-//Sabre//Sabre VObject 4.5.8//EN
CALSCALE:GREGORIAN
BEGIN:VEVENT
UID:sabre-vobject-ac66f622-0cb4-49a3-966f-cd82e0406426
DTSTAMP:20260420T204621Z
SUMMARY:House Beats
DESCRIPTION:https://regioningolstadt.com/house-beats_id18793
DTSTART;TZID=Europe/Berlin:20220422T220000
DURATION:PT30M
LOCATION:Bootshaus\, Oskar-Wittmann-Straße 5\, 86633 Neuburg an der Donau
END:VEVENT
END:VCALENDAR
