BEGIN:VCALENDAR
VERSION:2.0
PRODID:-//Sabre//Sabre VObject 4.5.8//EN
CALSCALE:GREGORIAN
BEGIN:VEVENT
UID:sabre-vobject-052c53cb-0cd2-4779-8d1f-68dda8b93a74
DTSTAMP:20260420T222310Z
SUMMARY:Black Friday
DESCRIPTION:https://regioningolstadt.com/black-friday_id18792
DTSTART;TZID=Europe/Berlin:20220422T220000
DURATION:PT30M
LOCATION:Moospark\, Rudolf-Diesel Straße 23\, 86554 Pöttmes
END:VEVENT
END:VCALENDAR
