BEGIN:VCALENDAR
VERSION:2.0
PRODID:-//Sabre//Sabre VObject 4.5.8//EN
CALSCALE:GREGORIAN
BEGIN:VEVENT
UID:sabre-vobject-8c2215c8-0fee-4602-971c-75df83a357e2
DTSTAMP:20260421T012223Z
SUMMARY:Lesung des Autorenclub Donau-Ries
DESCRIPTION:https://regioningolstadt.com/lesung-des-autorenclub-donau-ries_
 id18791
DTSTART;TZID=Europe/Berlin:20220422T183000
DURATION:PT30M
LOCATION:Café Wortschatz\, Oskar-Wittmann-Straße 3\, 86633 Neuburg an der
  Donau
END:VEVENT
END:VCALENDAR
