BEGIN:VCALENDAR
VERSION:2.0
PRODID:-//Sabre//Sabre VObject 4.5.8//EN
CALSCALE:GREGORIAN
BEGIN:VEVENT
UID:sabre-vobject-6bfd707f-bc12-440f-a2b0-d93698e41151
DTSTAMP:20260421T060133Z
SUMMARY:2000er Party
DESCRIPTION:https://regioningolstadt.com/2000er-party_id18790
DTSTART;TZID=Europe/Berlin:20220417T220000
DURATION:PT30M
LOCATION:Moospark\, Rudolf-Diesel Straße 23\, 86554 Pöttmes
END:VEVENT
END:VCALENDAR
