BEGIN:VCALENDAR
VERSION:2.0
PRODID:-//Sabre//Sabre VObject 4.5.8//EN
CALSCALE:GREGORIAN
BEGIN:VEVENT
UID:sabre-vobject-6fe27ce5-8f35-4b2a-bf7a-b8d1ce48c59e
DTSTAMP:20260421T091449Z
SUMMARY:Mega Mallorca Party
DESCRIPTION:https://regioningolstadt.com/mega-mallorca-party_id18789
DTSTART;TZID=Europe/Berlin:20220416T220000
DURATION:PT30M
LOCATION:Moospark\, Rudolf-Diesel Straße 23\, 86554 Pöttmes
END:VEVENT
END:VCALENDAR
