BEGIN:VCALENDAR
VERSION:2.0
PRODID:-//Sabre//Sabre VObject 4.5.8//EN
CALSCALE:GREGORIAN
BEGIN:VEVENT
UID:sabre-vobject-5e71884d-8a2c-4356-96fd-ec9a2eaebc48
DTSTAMP:20260421T205359Z
SUMMARY:Street-Art PErformance
DESCRIPTION:https://regioningolstadt.com/street-art-performance_id18788
DTSTART;TZID=Europe/Berlin:20220410T110000
DURATION:PT30M
LOCATION:Quartier Luitpold\, Theresienstraße 183\, 86633 Neuburg an der Do
 nau
END:VEVENT
END:VCALENDAR
