BEGIN:VCALENDAR
VERSION:2.0
PRODID:-//Sabre//Sabre VObject 4.5.8//EN
CALSCALE:GREGORIAN
BEGIN:VEVENT
UID:sabre-vobject-295628fd-ae49-4369-8c63-7c54c5fddf89
DTSTAMP:20260421T234945Z
SUMMARY:Gönn Dir
DESCRIPTION:https://regioningolstadt.com/goenn-dir_id18786
DTSTART;TZID=Europe/Berlin:20220409T220000
DURATION:PT30M
LOCATION:Moospark\, Rudolf-Diesel Straße 23\, 86554 Pöttmes
END:VEVENT
END:VCALENDAR
