BEGIN:VCALENDAR
VERSION:2.0
PRODID:-//Sabre//Sabre VObject 4.5.8//EN
CALSCALE:GREGORIAN
BEGIN:VEVENT
UID:sabre-vobject-d8a443c6-e96f-4b92-9955-863a9c7a5ce9
DTSTAMP:20260421T222208Z
SUMMARY:GoodHitsOnly
DESCRIPTION:https://regioningolstadt.com/goodhitsonly_id18784
DTSTART;TZID=Europe/Berlin:20220409T220000
DURATION:PT30M
LOCATION:Moospark\, Rudolf-Diesel Straße 23\, 86554 Pöttmes
END:VEVENT
END:VCALENDAR
