BEGIN:VCALENDAR
VERSION:2.0
PRODID:-//Sabre//Sabre VObject 4.5.8//EN
CALSCALE:GREGORIAN
BEGIN:VEVENT
UID:sabre-vobject-9e59642b-02a9-47b5-add7-a389a5907447
DTSTAMP:20260422T023232Z
SUMMARY:Vibez Club Vo.1
DESCRIPTION:https://regioningolstadt.com/vibez-club-vo-1_id18783
DTSTART;TZID=Europe/Berlin:20220409T200000
DURATION:PT30M
LOCATION:Fly Cocktailbar\, Elisenplatz C 38\, 86633 Neuburg an der Donau
END:VEVENT
END:VCALENDAR
