BEGIN:VCALENDAR
VERSION:2.0
PRODID:-//Sabre//Sabre VObject 4.5.8//EN
CALSCALE:GREGORIAN
BEGIN:VEVENT
UID:sabre-vobject-8f760826-eceb-4907-83b9-58b47112a937
DTSTAMP:20260422T040136Z
SUMMARY:VHS Neuburg - Ballett für die ganze Familie
DESCRIPTION:https://regioningolstadt.com/vhs-neuburg-ballett-fuer-die-ganze
 -familie_id18781
DTSTART;TZID=Europe/Berlin:20220409T160000
DURATION:PT30M
LOCATION:Stadttheater Neuburg\, Ottheinrichplatz\, 86633 Neuburg an der Don
 au
END:VEVENT
END:VCALENDAR
