BEGIN:VCALENDAR
VERSION:2.0
PRODID:-//Sabre//Sabre VObject 4.5.8//EN
CALSCALE:GREGORIAN
BEGIN:VEVENT
UID:sabre-vobject-ce4a157c-28cc-4265-9c87-0497ee7c0f7d
DTSTAMP:20260422T071029Z
SUMMARY:Kräuterspaziergang
DESCRIPTION:https://regioningolstadt.com/kraeuterspaziergang_id18780
DTSTART;TZID=Europe/Berlin:20220409T150000
DURATION:PT30M
LOCATION:TSV Sportanlage im Englischen Garten\, Flachslandenstraße 25\, 86
 633 Neuburg
END:VEVENT
END:VCALENDAR
