BEGIN:VCALENDAR
VERSION:2.0
PRODID:-//Sabre//Sabre VObject 4.5.8//EN
CALSCALE:GREGORIAN
BEGIN:VEVENT
UID:sabre-vobject-67506e13-856d-4cc9-9327-6c4dc00b5808
DTSTAMP:20260422T083327Z
SUMMARY:Party Rock
DESCRIPTION:https://regioningolstadt.com/party-rock_id18779
DTSTART;TZID=Europe/Berlin:20220409T000000
DURATION:PT30M
LOCATION:Fischerstecher House Bar\, Oskar-Wittmann-Straße 4\, 86633 Neubur
 g
END:VEVENT
END:VCALENDAR
