BEGIN:VCALENDAR
VERSION:2.0
PRODID:-//Sabre//Sabre VObject 4.5.8//EN
CALSCALE:GREGORIAN
BEGIN:VEVENT
UID:sabre-vobject-1a3c2095-b512-446e-bfdd-41f7ccfe7214
DTSTAMP:20260422T113101Z
SUMMARY:VHS Neuburg - Ballett für die ganze Familie
DESCRIPTION:https://regioningolstadt.com/vhs-neuburg-ballett-fuer-die-ganze
 -familie_id18778
DTSTART;TZID=Europe/Berlin:20220408T183000
DURATION:PT30M
LOCATION:Stadttheater Neuburg\, Ottheinrichplatz\, 86633 Neuburg an der Don
 au
END:VEVENT
END:VCALENDAR
