BEGIN:VCALENDAR
VERSION:2.0
PRODID:-//Sabre//Sabre VObject 4.5.8//EN
CALSCALE:GREGORIAN
BEGIN:VEVENT
UID:sabre-vobject-1b6b8c59-06fe-4bc1-a588-e5c4b76c6313
DTSTAMP:20260424T115304Z
SUMMARY:Zeit Zeichen 
DESCRIPTION:https://regioningolstadt.com/zeit-zeichen_id18768
DTSTART;TZID=Europe/Berlin:20220227T000000
DTEND;TZID=Europe/Berlin:20220626T000000
LOCATION:ART-Stiglmair\, Münchener Straße 16\, 86633 Neuburg
END:VEVENT
END:VCALENDAR
