BEGIN:VCALENDAR
VERSION:2.0
PRODID:-//Sabre//Sabre VObject 4.5.8//EN
CALSCALE:GREGORIAN
BEGIN:VEVENT
UID:sabre-vobject-14f0d5a7-ed4c-4ea4-9393-f628b94ca062
DTSTAMP:20260422T034000Z
SUMMARY:Licht und Ton
DESCRIPTION:https://regioningolstadt.com/licht-und-ton_id18753
DTSTART;TZID=Europe/Berlin:20220529T113000
DTEND;TZID=Europe/Berlin:20220626T000000
LOCATION:Städtische Galerie im Rathausfletz\, Residenzstr. A 66\, 86633 Ne
 uburg
END:VEVENT
END:VCALENDAR
