BEGIN:VCALENDAR
VERSION:2.0
PRODID:-//Sabre//Sabre VObject 4.5.8//EN
CALSCALE:GREGORIAN
BEGIN:VEVENT
UID:sabre-vobject-fe077263-2b3e-4217-b1d6-4e5445dfcf60
DTSTAMP:20260420T082101Z
SUMMARY:großformatig - informell - experimentell
DESCRIPTION:https://regioningolstadt.com/grossformatig-informell-experiment
 ell_id18752
DTSTART;TZID=Europe/Berlin:20220429T180000
DTEND;TZID=Europe/Berlin:20220522T000000
LOCATION:Städtische Galerie im Rathausfletz\, Residenzstr. A 66\, 86633 Ne
 uburg
END:VEVENT
END:VCALENDAR
