BEGIN:VCALENDAR
VERSION:2.0
PRODID:-//Sabre//Sabre VObject 4.5.8//EN
CALSCALE:GREGORIAN
BEGIN:VEVENT
UID:sabre-vobject-fc3ba13b-bc39-48b5-85a1-2d7d5eedc7f8
DTSTAMP:20260422T234046Z
SUMMARY:(Ge)Zeiten - Lyrik und Zeichenkunst
DESCRIPTION:https://regioningolstadt.com/ge-zeiten-lyrik-und-zeichenkunst_i
 d18751
DTSTART;TZID=Europe/Berlin:20220403T113000
DTEND;TZID=Europe/Berlin:20220424T000000
LOCATION:Städtische Galerie im Rathausfletz\, Residenzstr. A 66\, 86633 Ne
 uburg
END:VEVENT
END:VCALENDAR
