BEGIN:VCALENDAR
VERSION:2.0
PRODID:-//Sabre//Sabre VObject 4.5.8//EN
CALSCALE:GREGORIAN
BEGIN:VEVENT
UID:sabre-vobject-8cf2710f-1703-4d9d-9cda-d0ce59e5bddd
DTSTAMP:20260424T203917Z
SUMMARY:Jazz Open Air im Amalienhof
DESCRIPTION:https://regioningolstadt.com/jazz-open-air-im-amalienhof_id1875
 0
DTSTART;TZID=Europe/Berlin:20220626T180000
DURATION:PT30M
LOCATION:Amalienhof\, Jakob Balde Hof\, 86633 Neuburg
END:VEVENT
END:VCALENDAR
