BEGIN:VCALENDAR
VERSION:2.0
PRODID:-//Sabre//Sabre VObject 4.5.8//EN
CALSCALE:GREGORIAN
BEGIN:VEVENT
UID:sabre-vobject-0beda15a-9d80-4371-b119-7fa1b1b0f792
DTSTAMP:20260425T025550Z
SUMMARY:Jazz Open Air im Amalienhof
DESCRIPTION:https://regioningolstadt.com/jazz-open-air-im-amalienhof_id1874
 9
DTSTART;TZID=Europe/Berlin:20220625T180000
DURATION:PT30M
LOCATION:Amalienhof\, Jakob Balde Hof\, 86633 Neuburg
END:VEVENT
END:VCALENDAR
