BEGIN:VCALENDAR
VERSION:2.0
PRODID:-//Sabre//Sabre VObject 4.5.8//EN
CALSCALE:GREGORIAN
BEGIN:VEVENT
UID:sabre-vobject-630d365a-e214-42e0-9b8f-ced082560bda
DTSTAMP:20260425T124017Z
SUMMARY:Jazz Open Air im Amalienhof
DESCRIPTION:https://regioningolstadt.com/jazz-open-air-im-amalienhof_id1874
 5
DTSTART;TZID=Europe/Berlin:20220624T190000
DURATION:PT30M
LOCATION:Amalienhof\, Jakob Balde Hof\, 86633 Neuburg
END:VEVENT
END:VCALENDAR
