BEGIN:VCALENDAR
VERSION:2.0
PRODID:-//Sabre//Sabre VObject 4.5.8//EN
CALSCALE:GREGORIAN
BEGIN:VEVENT
UID:sabre-vobject-59a415e0-4f28-45f8-b435-226c08ea1cf9
DTSTAMP:20260425T112509Z
SUMMARY:Senioren-Weingespräche mit Le Chef Wilfried Greben inkl. 6er Weinp
 robe
DESCRIPTION:https://regioningolstadt.com/senioren-weingespraeche-mit-le-che
 f-wilfried-greben-inkl-6er-weinprobe_id18744
DTSTART;TZID=Europe/Berlin:20220622T110000
DURATION:PT30M
LOCATION:Weinparadiso\, Oswaldplatz 2\, 86633  Neuburg an der Donau
END:VEVENT
END:VCALENDAR
