BEGIN:VCALENDAR
VERSION:2.0
PRODID:-//Sabre//Sabre VObject 4.5.8//EN
CALSCALE:GREGORIAN
BEGIN:VEVENT
UID:sabre-vobject-0fa7e77d-2c4c-43e2-af25-9013882d2e4f
DTSTAMP:20260423T132013Z
SUMMARY:Bernhard Ullrich
DESCRIPTION:https://regioningolstadt.com/bernhard-ullrich_id18742
DTSTART;TZID=Europe/Berlin:20220604T203000
DURATION:PT30M
LOCATION:Birdland Jazz Club\, Am Karlsplatz A 52\, 86633 Neuburg an der Don
 au
END:VEVENT
END:VCALENDAR
