BEGIN:VCALENDAR
VERSION:2.0
PRODID:-//Sabre//Sabre VObject 4.5.8//EN
CALSCALE:GREGORIAN
BEGIN:VEVENT
UID:sabre-vobject-8f991945-0a6f-4048-ac53-12cad42ddc78
DTSTAMP:20260423T045940Z
SUMMARY:Straight ahead Quartett
DESCRIPTION:https://regioningolstadt.com/straight-ahead-quartett_id18741
DTSTART;TZID=Europe/Berlin:20220603T203000
DURATION:PT30M
LOCATION:Birdland Jazz Club\, Am Karlsplatz A 52\, 86633 Neuburg an der Don
 au
END:VEVENT
END:VCALENDAR
