BEGIN:VCALENDAR
VERSION:2.0
PRODID:-//Sabre//Sabre VObject 4.5.8//EN
CALSCALE:GREGORIAN
BEGIN:VEVENT
UID:sabre-vobject-23e95a99-0ef9-40b5-813c-8a8dc9c33482
DTSTAMP:20260423T003827Z
SUMMARY:Ladies Night
DESCRIPTION:https://regioningolstadt.com/ladies-night_id18740
DTSTART;TZID=Europe/Berlin:20220602T183000
DURATION:PT30M
LOCATION:Weinparadiso\, Oswaldplatz 2\, 86633  Neuburg an der Donau
END:VEVENT
END:VCALENDAR
