BEGIN:VCALENDAR
VERSION:2.0
PRODID:-//Sabre//Sabre VObject 4.5.8//EN
CALSCALE:GREGORIAN
BEGIN:VEVENT
UID:sabre-vobject-ace7cb15-d600-440b-b5ba-a60b0307e717
DTSTAMP:20260422T201852Z
SUMMARY:Billie
DESCRIPTION:https://regioningolstadt.com/billie_id18739
DTSTART;TZID=Europe/Berlin:20220601T200000
DURATION:PT30M
LOCATION:Kinopalast Neuburg\, Längenmühlweg 57\, 86633 Neuburg an der Don
 au
END:VEVENT
END:VCALENDAR
