BEGIN:VCALENDAR
VERSION:2.0
PRODID:-//Sabre//Sabre VObject 4.5.8//EN
CALSCALE:GREGORIAN
BEGIN:VEVENT
UID:sabre-vobject-7e7bbed7-7bb1-4069-8196-dac6b773a046
DTSTAMP:20260422T140456Z
SUMMARY:Weinseminar für Einsteiger
DESCRIPTION:https://regioningolstadt.com/weinseminar-fuer-einsteiger_id1873
 8
DTSTART;TZID=Europe/Berlin:20220531T183000
DURATION:PT30M
LOCATION:Weinparadiso\, Oswaldplatz 2\, 86633  Neuburg an der Donau
END:VEVENT
END:VCALENDAR
