BEGIN:VCALENDAR
VERSION:2.0
PRODID:-//Sabre//Sabre VObject 4.5.8//EN
CALSCALE:GREGORIAN
BEGIN:VEVENT
UID:sabre-vobject-2eda06d3-56d5-4e2d-9595-1284fae0be4d
DTSTAMP:20260421T201504Z
SUMMARY:Don Menza Quartet
DESCRIPTION:https://regioningolstadt.com/don-menza-quartet_id18737
DTSTART;TZID=Europe/Berlin:20220528T203000
DURATION:PT30M
LOCATION:Birdland Jazz Club\, Am Karlsplatz A 52\, 86633 Neuburg an der Don
 au
END:VEVENT
END:VCALENDAR
