BEGIN:VCALENDAR
VERSION:2.0
PRODID:-//Sabre//Sabre VObject 4.5.8//EN
CALSCALE:GREGORIAN
BEGIN:VEVENT
UID:sabre-vobject-45cbae4c-1fa2-40a1-850e-1ca90ef1d9cc
DTSTAMP:20260421T183423Z
SUMMARY:Zwischen den Stühlen
DESCRIPTION:https://regioningolstadt.com/zwischen-den-stuehlen_id18736
DTSTART;TZID=Europe/Berlin:20220528T170000
DTEND;TZID=Europe/Berlin:20220529T000000
LOCATION:Stadttheater Neuburg\, Ottheinrichplatz\, 86633 Neuburg an der Don
 au
END:VEVENT
END:VCALENDAR
