BEGIN:VCALENDAR
VERSION:2.0
PRODID:-//Sabre//Sabre VObject 4.5.8//EN
CALSCALE:GREGORIAN
BEGIN:VEVENT
UID:sabre-vobject-476b147b-a090-4f57-959a-6f286410a937
DTSTAMP:20260421T153639Z
SUMMARY:Max  De Aloe Quartet
DESCRIPTION:https://regioningolstadt.com/max-de-aloe-quartet_id18735
DTSTART;TZID=Europe/Berlin:20220527T203000
DURATION:PT30M
LOCATION:Birdland Jazz Club\, Am Karlsplatz A 52\, 86633 Neuburg an der Don
 au
END:VEVENT
END:VCALENDAR
