BEGIN:VCALENDAR
VERSION:2.0
PRODID:-//Sabre//Sabre VObject 4.5.8//EN
CALSCALE:GREGORIAN
BEGIN:VEVENT
UID:sabre-vobject-5414ea1e-49d4-4b7c-a309-5e49941f3a5b
DTSTAMP:20260420T173043Z
SUMMARY:Joe Chambers Quartet
DESCRIPTION:https://regioningolstadt.com/joe-chambers-quartet_id18733
DTSTART;TZID=Europe/Berlin:20220521T203000
DURATION:PT30M
LOCATION:Birdland Jazz Club\, Am Karlsplatz A 52\, 86633 Neuburg an der Don
 au
END:VEVENT
END:VCALENDAR
