BEGIN:VCALENDAR
VERSION:2.0
PRODID:-//Sabre//Sabre VObject 4.5.8//EN
CALSCALE:GREGORIAN
BEGIN:VEVENT
UID:sabre-vobject-35e83ea6-4f2f-423c-b7da-d98c98ab1e9a
DTSTAMP:20260420T155048Z
SUMMARY:Waldbaden
DESCRIPTION:https://regioningolstadt.com/waldbaden_id18732
DTSTART;TZID=Europe/Berlin:20220521T150000
DURATION:PT30M
LOCATION:Weinhaus Tremml\, Seestraße 41\, 86633 Neuburg an der Donau
END:VEVENT
END:VCALENDAR
