BEGIN:VCALENDAR
VERSION:2.0
PRODID:-//Sabre//Sabre VObject 4.5.8//EN
CALSCALE:GREGORIAN
BEGIN:VEVENT
UID:sabre-vobject-6c27a4a2-10f0-48b4-a24d-be614ec65e23
DTSTAMP:20260420T142637Z
SUMMARY:Richie Beirach Quartet
DESCRIPTION:https://regioningolstadt.com/richie-beirach-quartet_id18731
DTSTART;TZID=Europe/Berlin:20220520T203000
DURATION:PT30M
LOCATION:Birdland Jazz Club\, Am Karlsplatz A 52\, 86633 Neuburg an der Don
 au
END:VEVENT
END:VCALENDAR
