BEGIN:VCALENDAR
VERSION:2.0
PRODID:-//Sabre//Sabre VObject 4.5.8//EN
CALSCALE:GREGORIAN
BEGIN:VEVENT
UID:sabre-vobject-b08ab169-1699-46a3-8fad-66522c9c16ee
DTSTAMP:20260420T100033Z
SUMMARY:Senioren-Weingespräche mit Le Chef Wilfried Greben inkl. 6er Weinp
 robe
DESCRIPTION:https://regioningolstadt.com/senioren-weingespraeche-mit-le-che
 f-wilfried-greben-inkl-6er-weinprobe_id18354
DTSTART;TZID=Europe/Berlin:20220518T110000
DURATION:PT30M
LOCATION:Weinparadiso\, Oswaldplatz 2\, 86633  Neuburg an der Donau
END:VEVENT
END:VCALENDAR
