BEGIN:VCALENDAR
VERSION:2.0
PRODID:-//Sabre//Sabre VObject 4.5.8//EN
CALSCALE:GREGORIAN
BEGIN:VEVENT
UID:sabre-vobject-997076b1-2ae8-49bf-8fa2-dbfe04465f02
DTSTAMP:20260420T082109Z
SUMMARY:Roberta Gambarini Quartet
DESCRIPTION:https://regioningolstadt.com/roberta-gambarini-quartet_id18353
DTSTART;TZID=Europe/Berlin:20220515T203000
DURATION:PT30M
LOCATION:Birdland Jazz Club\, Am Karlsplatz A 52\, 86633 Neuburg an der Don
 au
END:VEVENT
END:VCALENDAR
