BEGIN:VCALENDAR
VERSION:2.0
PRODID:-//Sabre//Sabre VObject 4.5.8//EN
CALSCALE:GREGORIAN
BEGIN:VEVENT
UID:sabre-vobject-da95d3a4-6f46-4594-b5f1-78bde36c64cb
DTSTAMP:20260420T045537Z
SUMMARY:Joe Haider Sextett
DESCRIPTION:https://regioningolstadt.com/joe-haider-sextett_id18352
DTSTART;TZID=Europe/Berlin:20220514T203000
DURATION:PT30M
LOCATION:Birdland Jazz Club\, Am Karlsplatz A 52\, 86633 Neuburg an der Don
 au
END:VEVENT
END:VCALENDAR
