BEGIN:VCALENDAR
VERSION:2.0
PRODID:-//Sabre//Sabre VObject 4.5.8//EN
CALSCALE:GREGORIAN
BEGIN:VEVENT
UID:sabre-vobject-b095675d-0622-4058-a3c8-f0c2e5237050
DTSTAMP:20260420T013603Z
SUMMARY:Urgentango Trio
DESCRIPTION:https://regioningolstadt.com/urgentango-trio_id18351
DTSTART;TZID=Europe/Berlin:20220513T203000
DURATION:PT30M
LOCATION:Birdland Jazz Club\, Am Karlsplatz A 52\, 86633 Neuburg an der Don
 au
END:VEVENT
END:VCALENDAR
