BEGIN:VCALENDAR
VERSION:2.0
PRODID:-//Sabre//Sabre VObject 4.5.8//EN
CALSCALE:GREGORIAN
BEGIN:VEVENT
UID:sabre-vobject-ea241e95-3430-45d4-b610-c889bb699580
DTSTAMP:20260420T013508Z
SUMMARY:Live-Talk & Musik
DESCRIPTION:https://regioningolstadt.com/live-talk-musik_id18345
DTSTART;TZID=Europe/Berlin:20220512T200000
DURATION:PT30M
LOCATION:Schlösschen Hessellohe\, Am Bullbug 2\, 86633 Neuburg
END:VEVENT
END:VCALENDAR
